Package: MBQN Version: 2.19.0 Command: /Library/Frameworks/R.framework/Resources/bin/R CMD INSTALL MBQN StartedAt: 2025-02-04 15:24:55 -0500 (Tue, 04 Feb 2025) EndedAt: 2025-02-04 15:25:00 -0500 (Tue, 04 Feb 2025) EllapsedTime: 5.2 seconds RetCode: 0 Status: OK