Package: MBQN Version: 2.19.0 Command: /home/biocbuild/bbs-3.21-bioc/R/bin/R CMD build --keep-empty-dirs --no-resave-data MBQN StartedAt: 2025-02-04 17:55:44 -0500 (Tue, 04 Feb 2025) EndedAt: 2025-02-04 17:55:52 -0500 (Tue, 04 Feb 2025) EllapsedTime: 8.0 seconds RetCode: 0 Status: OK PackageFile: MBQN_2.19.0.tar.gz PackageFileSize: 213.4 KiB