Package: MBQN Version: 2.19.0 Command: /home/biocbuild/bbs-3.21-bioc/R/bin/R CMD INSTALL MBQN StartedAt: 2025-02-05 15:19:56 -0500 (Wed, 05 Feb 2025) EndedAt: 2025-02-05 15:19:59 -0500 (Wed, 05 Feb 2025) EllapsedTime: 3.7 seconds RetCode: 0 Status: OK