Package: MBQN Version: 2.19.0 Command: rm -rf MBQN.buildbin-libdir && mkdir MBQN.buildbin-libdir && E:\biocbuild\bbs-3.21-bioc\R\bin\R.exe CMD INSTALL --build --library=MBQN.buildbin-libdir MBQN_2.19.0.tar.gz StartedAt: 2025-02-05 08:16:54 -0500 (Wed, 05 Feb 2025) EndedAt: 2025-02-05 08:17:04 -0500 (Wed, 05 Feb 2025) EllapsedTime: 9.6 seconds RetCode: 0 Status: OK PackageFile: MBQN_2.19.0.zip PackageFileSize: 142.5 KiB