Package: MBQN Version: 2.19.0 Command: chmod a+r MBQN -R && E:\biocbuild\bbs-3.21-bioc\R\bin\R.exe CMD build --keep-empty-dirs --no-resave-data MBQN StartedAt: 2025-02-05 19:47:40 -0500 (Wed, 05 Feb 2025) EndedAt: 2025-02-05 19:47:56 -0500 (Wed, 05 Feb 2025) EllapsedTime: 15.9 seconds RetCode: 0 Status: OK PackageFile: MBQN_2.19.0.tar.gz PackageFileSize: 78.45 KiB