Package: MBQN Version: 2.19.0 Command: E:\biocbuild\bbs-3.21-bioc\R\bin\R.exe CMD check --no-multiarch --install=check:MBQN.install-out.txt --library=E:\biocbuild\bbs-3.21-bioc\R\library --no-vignettes --timings MBQN_2.19.0.tar.gz StartedAt: 2025-02-05 03:02:41 -0500 (Wed, 05 Feb 2025) EndedAt: 2025-02-05 03:03:18 -0500 (Wed, 05 Feb 2025) EllapsedTime: 37.5 seconds RetCode: 0 Status: OK CheckDir: MBQN.Rcheck Warnings: 0