Package: MBQN Version: 2.19.0 Command: E:\biocbuild\bbs-3.21-bioc\R\bin\R.exe CMD INSTALL MBQN StartedAt: 2025-02-05 15:52:12 -0500 (Wed, 05 Feb 2025) EndedAt: 2025-02-05 15:52:22 -0500 (Wed, 05 Feb 2025) EllapsedTime: 9.5 seconds RetCode: 0 Status: OK