Package: MBttest Version: 1.35.0 Command: /Library/Frameworks/R.framework/Resources/bin/R CMD build --keep-empty-dirs --no-resave-data MBttest StartedAt: 2025-02-12 17:15:56 -0500 (Wed, 12 Feb 2025) EndedAt: 2025-02-12 17:16:20 -0500 (Wed, 12 Feb 2025) EllapsedTime: 23.9 seconds RetCode: 0 Status: OK PackageFile: MBttest_1.35.0.tar.gz PackageFileSize: 3.447 MiB