Package: MBttest Version: 1.35.0 Command: rm -rf MBttest.buildbin-libdir && mkdir MBttest.buildbin-libdir && E:\biocbuild\bbs-3.21-bioc\R\bin\R.exe CMD INSTALL --build --library=MBttest.buildbin-libdir MBttest_1.35.0.tar.gz StartedAt: 2025-02-10 08:05:13 -0500 (Mon, 10 Feb 2025) EndedAt: 2025-02-10 08:05:25 -0500 (Mon, 10 Feb 2025) EllapsedTime: 12.4 seconds RetCode: 0 Status: OK PackageFile: MBttest_1.35.0.zip PackageFileSize: 2.593 MiB