Package: MBttest Version: 1.35.0 Command: chmod a+r MBttest -R && E:\biocbuild\bbs-3.21-bioc\R\bin\R.exe CMD build --keep-empty-dirs --no-resave-data MBttest StartedAt: 2025-02-09 19:42:08 -0500 (Sun, 09 Feb 2025) EndedAt: 2025-02-09 19:42:44 -0500 (Sun, 09 Feb 2025) EllapsedTime: 36.2 seconds RetCode: 0 Status: OK PackageFile: MBttest_1.35.0.tar.gz PackageFileSize: 3.451 MiB