Package: MBttest Version: 1.35.0 Command: E:\biocbuild\bbs-3.21-bioc\R\bin\R.exe CMD check --no-multiarch --install=check:MBttest.install-out.txt --library=E:\biocbuild\bbs-3.21-bioc\R\library --no-vignettes --timings MBttest_1.35.0.tar.gz StartedAt: 2025-02-10 02:35:59 -0500 (Mon, 10 Feb 2025) EndedAt: 2025-02-10 02:36:40 -0500 (Mon, 10 Feb 2025) EllapsedTime: 40.9 seconds RetCode: 0 Status: OK CheckDir: MBttest.Rcheck Warnings: 0