Package: MCbiclust Version: 1.31.0 Command: /home/biocbuild/R/R/bin/R CMD build --keep-empty-dirs --no-resave-data MCbiclust StartedAt: 2025-01-29 00:04:34 -0000 (Wed, 29 Jan 2025) EndedAt: 2025-01-29 00:06:12 -0000 (Wed, 29 Jan 2025) EllapsedTime: 98.0 seconds RetCode: 0 Status: OK PackageFile: MCbiclust_1.31.0.tar.gz PackageFileSize: 4.289 MiB