Package: MCbiclust Version: 1.31.0 Command: /Library/Frameworks/R.framework/Resources/bin/R CMD build --keep-empty-dirs --no-resave-data MCbiclust StartedAt: 2025-02-09 17:19:48 -0500 (Sun, 09 Feb 2025) EndedAt: 2025-02-09 17:21:02 -0500 (Sun, 09 Feb 2025) EllapsedTime: 74.3 seconds RetCode: 0 Status: OK PackageFile: MCbiclust_1.31.0.tar.gz PackageFileSize: 6.562 MiB