Package: MCbiclust Version: 1.31.0 Command: /home/biocbuild/bbs-3.21-bioc/R/bin/R CMD check --install=check:MCbiclust.install-out.txt --library=/home/biocbuild/bbs-3.21-bioc/R/site-library --timings MCbiclust_1.31.0.tar.gz StartedAt: 2025-02-12 23:49:25 -0500 (Wed, 12 Feb 2025) EndedAt: 2025-02-12 23:55:39 -0500 (Wed, 12 Feb 2025) EllapsedTime: 373.4 seconds RetCode: 0 Status: OK CheckDir: MCbiclust.Rcheck Warnings: 0