Package: MCbiclust Version: 1.31.0 Command: /home/biocbuild/bbs-3.21-bioc/R/bin/R CMD INSTALL MCbiclust StartedAt: 2025-02-09 15:43:14 -0500 (Sun, 09 Feb 2025) EndedAt: 2025-02-09 15:43:34 -0500 (Sun, 09 Feb 2025) EllapsedTime: 19.9 seconds RetCode: 0 Status: OK