Package: MCbiclust Version: 1.31.0 Command: rm -rf MCbiclust.buildbin-libdir && mkdir MCbiclust.buildbin-libdir && E:\biocbuild\bbs-3.21-bioc\R\bin\R.exe CMD INSTALL --build --library=MCbiclust.buildbin-libdir MCbiclust_1.31.0.tar.gz StartedAt: 2025-02-10 08:05:14 -0500 (Mon, 10 Feb 2025) EndedAt: 2025-02-10 08:05:47 -0500 (Mon, 10 Feb 2025) EllapsedTime: 32.6 seconds RetCode: 0 Status: OK PackageFile: MCbiclust_1.31.0.zip PackageFileSize: 5.102 MiB