Package: MCbiclust Version: 1.31.0 Command: chmod a+r MCbiclust -R && E:\biocbuild\bbs-3.21-bioc\R\bin\R.exe CMD build --keep-empty-dirs --no-resave-data MCbiclust StartedAt: 2025-02-09 19:42:20 -0500 (Sun, 09 Feb 2025) EndedAt: 2025-02-09 19:44:11 -0500 (Sun, 09 Feb 2025) EllapsedTime: 110.7 seconds RetCode: 0 Status: OK PackageFile: MCbiclust_1.31.0.tar.gz PackageFileSize: 3.647 MiB