Package: MCbiclust Version: 1.31.0 Command: E:\biocbuild\bbs-3.21-bioc\R\bin\R.exe CMD check --no-multiarch --install=check:MCbiclust.install-out.txt --library=E:\biocbuild\bbs-3.21-bioc\R\library --no-vignettes --timings MCbiclust_1.31.0.tar.gz StartedAt: 2025-02-10 02:36:01 -0500 (Mon, 10 Feb 2025) EndedAt: 2025-02-10 02:43:40 -0500 (Mon, 10 Feb 2025) EllapsedTime: 459.8 seconds RetCode: 0 Status: OK CheckDir: MCbiclust.Rcheck Warnings: 0