Package: MDTS Version: 1.27.0 Command: /Library/Frameworks/R.framework/Resources/bin/R CMD build --keep-empty-dirs --no-resave-data MDTS StartedAt: 2025-02-03 17:26:33 -0500 (Mon, 03 Feb 2025) EndedAt: 2025-02-03 17:26:50 -0500 (Mon, 03 Feb 2025) EllapsedTime: 16.2 seconds RetCode: 0 Status: OK PackageFile: MDTS_1.27.0.tar.gz PackageFileSize: 31.4 KiB