Package: MDTS Version: 1.27.0 Command: /Library/Frameworks/R.framework/Resources/bin/R CMD check --install=check:MDTS.install-out.txt --library=/Library/Frameworks/R.framework/Resources/library --no-vignettes --timings MDTS_1.27.0.tar.gz StartedAt: 2025-02-03 20:34:59 -0500 (Mon, 03 Feb 2025) EndedAt: 2025-02-03 20:36:16 -0500 (Mon, 03 Feb 2025) EllapsedTime: 76.9 seconds RetCode: 0 Status: OK CheckDir: MDTS.Rcheck Warnings: 0