Package: MDTS Version: 1.27.0 Command: /Library/Frameworks/R.framework/Resources/bin/R CMD INSTALL MDTS StartedAt: 2025-02-03 15:45:05 -0500 (Mon, 03 Feb 2025) EndedAt: 2025-02-03 15:45:15 -0500 (Mon, 03 Feb 2025) EllapsedTime: 9.8 seconds RetCode: 0 Status: OK