Package: MDTS Version: 1.27.0 Command: /home/biocbuild/R/R/bin/R CMD build --keep-empty-dirs --no-resave-data MDTS StartedAt: 2025-01-29 00:05:16 -0000 (Wed, 29 Jan 2025) EndedAt: 2025-01-29 00:06:08 -0000 (Wed, 29 Jan 2025) EllapsedTime: 52.0 seconds RetCode: 0 Status: OK PackageFile: MDTS_1.27.0.tar.gz PackageFileSize: 31.51 KiB