Package: MDTS Version: 1.27.0 Command: rm -rf MDTS.buildbin-libdir && mkdir MDTS.buildbin-libdir && /Users/biocbuild/BBS/utils/build-universal.sh MDTS_1.27.0.tar.gz /Library/Frameworks/R.framework/Resources/bin/R MDTS.buildbin-libdir StartedAt: 2025-02-04 00:41:45 -0500 (Tue, 04 Feb 2025) EndedAt: 2025-02-04 00:42:21 -0500 (Tue, 04 Feb 2025) EllapsedTime: 35.8 seconds RetCode: 0 Status: OK PackageFile: MDTS_1.27.0.tgz PackageFileSize: 79.47 KiB