Package: MDTS Version: 1.27.0 Command: /home/biocbuild/bbs-3.21-bioc/R/bin/R CMD build --keep-empty-dirs --no-resave-data MDTS StartedAt: 2025-02-04 17:56:18 -0500 (Tue, 04 Feb 2025) EndedAt: 2025-02-04 17:56:55 -0500 (Tue, 04 Feb 2025) EllapsedTime: 37.0 seconds RetCode: 0 Status: OK PackageFile: MDTS_1.27.0.tar.gz PackageFileSize: 31.55 KiB