Package: MDTS Version: 1.27.0 Command: /home/biocbuild/bbs-3.21-bioc/R/bin/R CMD INSTALL MDTS StartedAt: 2025-02-04 15:23:39 -0500 (Tue, 04 Feb 2025) EndedAt: 2025-02-04 15:24:03 -0500 (Tue, 04 Feb 2025) EllapsedTime: 23.9 seconds RetCode: 0 Status: OK