Package: MDTS Version: 1.27.0 Command: rm -rf MDTS.buildbin-libdir && mkdir MDTS.buildbin-libdir && E:\biocbuild\bbs-3.21-bioc\R\bin\R.exe CMD INSTALL --build --library=MDTS.buildbin-libdir MDTS_1.27.0.tar.gz StartedAt: 2025-02-05 08:17:11 -0500 (Wed, 05 Feb 2025) EndedAt: 2025-02-05 08:17:38 -0500 (Wed, 05 Feb 2025) EllapsedTime: 27.2 seconds RetCode: 0 Status: OK PackageFile: MDTS_1.27.0.zip PackageFileSize: 85.7 KiB