Package: MDTS Version: 1.27.0 Command: E:\biocbuild\bbs-3.21-bioc\R\bin\R.exe CMD INSTALL MDTS StartedAt: 2025-02-04 16:00:54 -0500 (Tue, 04 Feb 2025) EndedAt: 2025-02-04 16:01:22 -0500 (Tue, 04 Feb 2025) EllapsedTime: 28.0 seconds RetCode: 0 Status: OK