Package: MEAL Version: 1.37.0 Command: /Library/Frameworks/R.framework/Resources/bin/R CMD build --keep-empty-dirs --no-resave-data MEAL StartedAt: 2025-02-04 16:50:33 -0500 (Tue, 04 Feb 2025) EndedAt: 2025-02-04 16:53:28 -0500 (Tue, 04 Feb 2025) EllapsedTime: 175.0 seconds RetCode: 0 Status: OK PackageFile: MEAL_1.37.0.tar.gz PackageFileSize: 2.103 MiB