Package: MEAL Version: 1.37.0 Command: /home/biocbuild/R/R/bin/R CMD build --keep-empty-dirs --no-resave-data MEAL StartedAt: 2025-01-29 00:05:17 -0000 (Wed, 29 Jan 2025) EndedAt: 2025-01-29 00:14:43 -0000 (Wed, 29 Jan 2025) EllapsedTime: 566.2 seconds RetCode: 0 Status: OK PackageFile: MEAL_1.37.0.tar.gz PackageFileSize: 1.339 MiB