Package: MEAL Version: 1.37.0 Command: /home/biocbuild/R/R/bin/R CMD INSTALL MEAL StartedAt: 2025-01-29 20:42:13 -0000 (Wed, 29 Jan 2025) EndedAt: 2025-01-29 20:43:12 -0000 (Wed, 29 Jan 2025) EllapsedTime: 59.0 seconds RetCode: 0 Status: OK