Package: MEAL Version: 1.37.0 Command: /Library/Frameworks/R.framework/Resources/bin/R CMD INSTALL MEAL StartedAt: 2025-02-09 15:49:31 -0500 (Sun, 09 Feb 2025) EndedAt: 2025-02-09 15:50:04 -0500 (Sun, 09 Feb 2025) EllapsedTime: 32.8 seconds RetCode: 0 Status: OK