Package: MEAL Version: 1.37.0 Command: /home/biocbuild/bbs-3.21-bioc/R/bin/R CMD build --keep-empty-dirs --no-resave-data MEAL StartedAt: 2025-02-09 17:58:38 -0500 (Sun, 09 Feb 2025) EndedAt: 2025-02-09 18:05:50 -0500 (Sun, 09 Feb 2025) EllapsedTime: 432.4 seconds RetCode: 0 Status: OK PackageFile: MEAL_1.37.0.tar.gz PackageFileSize: 2.078 MiB