Package: MEAL Version: 1.37.0 Command: /home/biocbuild/bbs-3.21-bioc/R/bin/R CMD INSTALL MEAL StartedAt: 2025-02-09 16:04:02 -0500 (Sun, 09 Feb 2025) EndedAt: 2025-02-09 16:04:42 -0500 (Sun, 09 Feb 2025) EllapsedTime: 40.5 seconds RetCode: 0 Status: OK