Package: MEAL Version: 1.37.0 Command: rm -rf MEAL.buildbin-libdir && mkdir MEAL.buildbin-libdir && E:\biocbuild\bbs-3.21-bioc\R\bin\R.exe CMD INSTALL --build --library=MEAL.buildbin-libdir MEAL_1.37.0.tar.gz StartedAt: 2025-02-10 08:05:30 -0500 (Mon, 10 Feb 2025) EndedAt: 2025-02-10 08:06:26 -0500 (Mon, 10 Feb 2025) EllapsedTime: 55.4 seconds RetCode: 0 Status: OK PackageFile: MEAL_1.37.0.zip PackageFileSize: 1.094 MiB