Package: MEAL Version: 1.37.0 Command: E:\biocbuild\bbs-3.21-bioc\R\bin\R.exe CMD INSTALL MEAL StartedAt: 2025-02-09 17:05:47 -0500 (Sun, 09 Feb 2025) EndedAt: 2025-02-09 17:06:29 -0500 (Sun, 09 Feb 2025) EllapsedTime: 42.3 seconds RetCode: 0 Status: OK