Package: MEB Version: 1.21.0 Command: rm -rf MEB.buildbin-libdir && mkdir MEB.buildbin-libdir && /Users/biocbuild/BBS/utils/build-universal.sh MEB_1.21.0.tar.gz /Library/Frameworks/R.framework/Resources/bin/R MEB.buildbin-libdir StartedAt: 2025-02-03 22:55:55 -0500 (Mon, 03 Feb 2025) EndedAt: 2025-02-03 22:56:07 -0500 (Mon, 03 Feb 2025) EllapsedTime: 12.3 seconds RetCode: 0 Status: OK PackageFile: MEB_1.21.0.tgz PackageFileSize: 1.445 MiB