Package: MEB Version: 1.21.0 Command: /home/biocbuild/R/R/bin/R CMD INSTALL MEB StartedAt: 2025-01-29 20:28:28 -0000 (Wed, 29 Jan 2025) EndedAt: 2025-01-29 20:29:06 -0000 (Wed, 29 Jan 2025) EllapsedTime: 37.4 seconds RetCode: 0 Status: OK