Package: MEB Version: 1.21.0 Command: /Library/Frameworks/R.framework/Resources/bin/R CMD build --keep-empty-dirs --no-resave-data MEB StartedAt: 2025-02-03 17:19:48 -0500 (Mon, 03 Feb 2025) EndedAt: 2025-02-03 17:20:41 -0500 (Mon, 03 Feb 2025) EllapsedTime: 52.6 seconds RetCode: 0 Status: OK PackageFile: MEB_1.21.0.tar.gz PackageFileSize: 1.179 MiB