Package: MEB Version: 1.21.0 Command: /Library/Frameworks/R.framework/Resources/bin/R CMD check --install=check:MEB.install-out.txt --library=/Library/Frameworks/R.framework/Resources/library --no-vignettes --timings MEB_1.21.0.tar.gz StartedAt: 2025-02-03 21:30:27 -0500 (Mon, 03 Feb 2025) EndedAt: 2025-02-03 21:33:59 -0500 (Mon, 03 Feb 2025) EllapsedTime: 211.4 seconds RetCode: 0 Status: OK CheckDir: MEB.Rcheck Warnings: 0