Package: MEB Version: 1.21.0 Command: /home/biocbuild/bbs-3.21-bioc/R/bin/R CMD INSTALL MEB StartedAt: 2025-02-09 15:53:54 -0500 (Sun, 09 Feb 2025) EndedAt: 2025-02-09 15:54:22 -0500 (Sun, 09 Feb 2025) EllapsedTime: 27.7 seconds RetCode: 0 Status: OK