Package: MEB Version: 1.21.0 Command: E:\biocbuild\bbs-3.21-bioc\R\bin\R.exe CMD INSTALL MEB StartedAt: 2025-02-03 16:40:29 -0500 (Mon, 03 Feb 2025) EndedAt: 2025-02-03 16:41:04 -0500 (Mon, 03 Feb 2025) EllapsedTime: 34.9 seconds RetCode: 0 Status: OK