Package: MEDIPS Version: 1.59.0 Command: /Library/Frameworks/R.framework/Resources/bin/R CMD check --install=check:MEDIPS.install-out.txt --library=/Library/Frameworks/R.framework/Resources/library --no-vignettes --timings MEDIPS_1.59.0.tar.gz StartedAt: 2025-02-09 19:58:03 -0500 (Sun, 09 Feb 2025) EndedAt: 2025-02-09 20:00:23 -0500 (Sun, 09 Feb 2025) EllapsedTime: 140.7 seconds RetCode: 0 Status: OK CheckDir: MEDIPS.Rcheck Warnings: 0