Package: MEDIPS Version: 1.59.0 Command: /Library/Frameworks/R.framework/Resources/bin/R CMD INSTALL MEDIPS StartedAt: 2025-02-04 15:13:47 -0500 (Tue, 04 Feb 2025) EndedAt: 2025-02-04 15:14:03 -0500 (Tue, 04 Feb 2025) EllapsedTime: 16.4 seconds RetCode: 0 Status: OK