Package: MEDIPS Version: 1.59.0 Command: /Library/Frameworks/R.framework/Resources/bin/R CMD build --keep-empty-dirs --no-resave-data MEDIPS StartedAt: 2025-02-09 17:20:30 -0500 (Sun, 09 Feb 2025) EndedAt: 2025-02-09 17:22:31 -0500 (Sun, 09 Feb 2025) EllapsedTime: 121.2 seconds RetCode: 0 Status: OK PackageFile: MEDIPS_1.59.0.tar.gz PackageFileSize: 323.1 KiB