Package: MEDIPS Version: 1.59.0 Command: /home/biocbuild/bbs-3.21-bioc/R/bin/R CMD check --install=check:MEDIPS.install-out.txt --library=/home/biocbuild/bbs-3.21-bioc/R/site-library --timings MEDIPS_1.59.0.tar.gz StartedAt: 2025-02-04 23:51:50 -0500 (Tue, 04 Feb 2025) EndedAt: 2025-02-04 23:58:17 -0500 (Tue, 04 Feb 2025) EllapsedTime: 386.6 seconds RetCode: 0 Status: OK CheckDir: MEDIPS.Rcheck Warnings: 0