Package: MEDIPS Version: 1.59.0 Command: /home/biocbuild/bbs-3.21-bioc/R/bin/R CMD INSTALL MEDIPS StartedAt: 2025-02-09 15:27:25 -0500 (Sun, 09 Feb 2025) EndedAt: 2025-02-09 15:28:06 -0500 (Sun, 09 Feb 2025) EllapsedTime: 40.8 seconds RetCode: 0 Status: OK