Package: MEDIPS Version: 1.59.0 Command: chmod a+r MEDIPS -R && E:\biocbuild\bbs-3.21-bioc\R\bin\R.exe CMD build --keep-empty-dirs --no-resave-data MEDIPS StartedAt: 2025-02-09 19:43:41 -0500 (Sun, 09 Feb 2025) EndedAt: 2025-02-09 19:46:14 -0500 (Sun, 09 Feb 2025) EllapsedTime: 152.9 seconds RetCode: 0 Status: OK PackageFile: MEDIPS_1.59.0.tar.gz PackageFileSize: 323.3 KiB