Package: MGFM Version: 1.41.0 Command: /Library/Frameworks/R.framework/Resources/bin/R CMD check --install=check:MGFM.install-out.txt --library=/Library/Frameworks/R.framework/Resources/library --no-vignettes --timings MGFM_1.41.0.tar.gz StartedAt: 2025-02-04 20:06:56 -0500 (Tue, 04 Feb 2025) EndedAt: 2025-02-04 20:07:36 -0500 (Tue, 04 Feb 2025) EllapsedTime: 39.5 seconds RetCode: 0 Status: OK CheckDir: MGFM.Rcheck Warnings: 0