Package: MGFM Version: 1.41.0 Command: /Library/Frameworks/R.framework/Resources/bin/R CMD INSTALL MGFM StartedAt: 2025-02-04 15:09:47 -0500 (Tue, 04 Feb 2025) EndedAt: 2025-02-04 15:09:52 -0500 (Tue, 04 Feb 2025) EllapsedTime: 4.9 seconds RetCode: 0 Status: OK