Package: MGFM Version: 1.41.0 Command: /home/biocbuild/R/R/bin/R CMD INSTALL MGFM StartedAt: 2025-01-29 19:51:17 -0000 (Wed, 29 Jan 2025) EndedAt: 2025-01-29 19:51:35 -0000 (Wed, 29 Jan 2025) EllapsedTime: 17.6 seconds RetCode: 0 Status: OK